BEGIN:VCALENDAR
VERSION:2.0
PRODID:-//195.225.209.58//NONSGML kigkonsult.se iCalcreator 2.20//
CALSCALE:GREGORIAN
METHOD:PUBLISH
X-WR-TIMEZONE:Europe/Berlin
BEGIN:VEVENT
UID:event92@Natürlich mit Tieren - Tierheilpraktikerin Iris Malzkorn
DTSTAMP:20260425T041847Z
CATEGORIES:Reitunterricht
DESCRIPTION:Natural Horsemanship intensiv\nKategorie: Reitunterricht\nICS-L
 ink: https://www.natuerlich-mit-tieren.de/index.php?option=com_jem&view=ev
 ent&id=92:natural-horsemanship-intensiv\n
DTSTART;TZID=Europe/Berlin:20220905T140000
DTEND;TZID=Europe/Berlin:20220909T170000
LOCATION:Geretsried\,Fliederweg 10\,82538 Geretsried
SUMMARY:Natural Horsemanship intensiv
URL:https://www.natuerlich-mit-tieren.de/index.php?option=com_jem&view=even
 t&id=92:natural-horsemanship-intensiv
END:VEVENT
END:VCALENDAR
